BEGIN:VCALENDAR
VERSION:2.0
PRODID:-//Low Key Tiki - ECPv4.9.6//NONSGML v1.0//EN
CALSCALE:GREGORIAN
METHOD:PUBLISH
X-WR-CALNAME:Low Key Tiki
X-ORIGINAL-URL:http://www.lowkeytiki.com
X-WR-CALDESC:Events for Low Key Tiki
BEGIN:VTIMEZONE
TZID:"America/New_York"
BEGIN:DAYLIGHT
TZOFFSETFROM:-0500
TZOFFSETTO:-0400
TZNAME:EDT
DTSTART:20250309T070000
END:DAYLIGHT
BEGIN:STANDARD
TZOFFSETFROM:-0400
TZOFFSETTO:-0500
TZNAME:EST
DTSTART:20251102T060000
END:STANDARD
END:VTIMEZONE
BEGIN:VEVENT
DTSTART;TZID="America/New_York":20251228T140000
DTEND;TZID="America/New_York":20251228T170000
DTSTAMP:20260422T111957
CREATED:20241220T191450Z
LAST-MODIFIED:20251025T131101Z
UID:618-1766930400-1766941200@www.lowkeytiki.com
SUMMARY:13 South
DESCRIPTION:
URL:http://www.lowkeytiki.com/event/13-south/
CATEGORIES:Live Music
END:VEVENT
END:VCALENDAR