BEGIN:VCALENDAR
VERSION:2.0
PRODID:-//Low Key Tiki - ECPv4.9.6//NONSGML v1.0//EN
CALSCALE:GREGORIAN
METHOD:PUBLISH
X-WR-CALNAME:Low Key Tiki
X-ORIGINAL-URL:http://www.lowkeytiki.com
X-WR-CALDESC:Events for Low Key Tiki
BEGIN:VTIMEZONE
TZID:"America/New_York"
BEGIN:DAYLIGHT
TZOFFSETFROM:-0500
TZOFFSETTO:-0400
TZNAME:EDT
DTSTART:20250309T070000
END:DAYLIGHT
BEGIN:STANDARD
TZOFFSETFROM:-0400
TZOFFSETTO:-0500
TZNAME:EST
DTSTART:20251102T060000
END:STANDARD
END:VTIMEZONE
BEGIN:VEVENT
DTSTART;TZID="America/New_York":20250223T140000
DTEND;TZID="America/New_York":20250223T170000
DTSTAMP:20260422T181842
CREATED:20250119T195841Z
LAST-MODIFIED:20250119T195841Z
UID:629-1740319200-1740330000@www.lowkeytiki.com
SUMMARY:American Made
DESCRIPTION:
URL:http://www.lowkeytiki.com/event/american-made/
CATEGORIES:Live Music
END:VEVENT
END:VCALENDAR