BEGIN:VCALENDAR
VERSION:2.0
PRODID:-//Low Key Tiki - ECPv4.9.6//NONSGML v1.0//EN
CALSCALE:GREGORIAN
METHOD:PUBLISH
X-WR-CALNAME:Low Key Tiki
X-ORIGINAL-URL:http://www.lowkeytiki.com
X-WR-CALDESC:Events for Low Key Tiki
BEGIN:VTIMEZONE
TZID:"America/New_York"
BEGIN:DAYLIGHT
TZOFFSETFROM:-0500
TZOFFSETTO:-0400
TZNAME:EDT
DTSTART:20210314T070000
END:DAYLIGHT
BEGIN:STANDARD
TZOFFSETFROM:-0400
TZOFFSETTO:-0500
TZNAME:EST
DTSTART:20211107T060000
END:STANDARD
END:VTIMEZONE
BEGIN:VEVENT
DTSTART;VALUE=DATE:20211109
DTEND;VALUE=DATE:20211110
DTSTAMP:20260421T125417
CREATED:20211109T184124Z
LAST-MODIFIED:20211109T184124Z
UID:528-1636416000-1636502399@www.lowkeytiki.com
SUMMARY:Christmas Day-Closed
DESCRIPTION:
URL:http://www.lowkeytiki.com/event/christmas-day-closed/
CATEGORIES:Holiday Schedule
END:VEVENT
END:VCALENDAR