BEGIN:VCALENDAR
VERSION:2.0
PRODID:-//Low Key Tiki - ECPv4.9.6//NONSGML v1.0//EN
CALSCALE:GREGORIAN
METHOD:PUBLISH
X-WR-CALNAME:Low Key Tiki
X-ORIGINAL-URL:http://www.lowkeytiki.com
X-WR-CALDESC:Events for Low Key Tiki
BEGIN:VTIMEZONE
TZID:"America/New_York"
BEGIN:DAYLIGHT
TZOFFSETFROM:-0500
TZOFFSETTO:-0400
TZNAME:EDT
DTSTART:20240310T070000
END:DAYLIGHT
BEGIN:STANDARD
TZOFFSETFROM:-0400
TZOFFSETTO:-0500
TZNAME:EST
DTSTART:20241103T060000
END:STANDARD
END:VTIMEZONE
BEGIN:VEVENT
DTSTART;TZID="America/New_York":20241215T140000
DTEND;TZID="America/New_York":20241215T170000
DTSTAMP:20260424T142456
CREATED:20241122T170346Z
LAST-MODIFIED:20241122T170346Z
UID:600-1734271200-1734282000@www.lowkeytiki.com
SUMMARY:Mocking Bird
DESCRIPTION:
URL:http://www.lowkeytiki.com/event/mocking-bird/
CATEGORIES:Live Music
END:VEVENT
END:VCALENDAR