BEGIN:VCALENDAR
VERSION:2.0
PRODID:-//Low Key Tiki - ECPv4.9.6//NONSGML v1.0//EN
CALSCALE:GREGORIAN
METHOD:PUBLISH
X-WR-CALNAME:Low Key Tiki
X-ORIGINAL-URL:http://www.lowkeytiki.com
X-WR-CALDESC:Events for Low Key Tiki
BEGIN:VTIMEZONE
TZID:"UTC"
BEGIN:STANDARD
TZOFFSETFROM:+0000
TZOFFSETTO:+0000
TZNAME:UTC
DTSTART:20250101T000000
END:STANDARD
END:VTIMEZONE
BEGIN:VEVENT
DTSTART;TZID="UTC":20251106T180000
DTEND;TZID="UTC":20251106T203000
DTSTAMP:20260420T092048
CREATED:20161116T054143Z
LAST-MODIFIED:20251025T132416Z
UID:89-1762452000-1762461000@www.lowkeytiki.com
SUMMARY:Rudy Cox
DESCRIPTION: \n
URL:http://www.lowkeytiki.com/event/rudy-cox/
CATEGORIES:Live Music
ATTACH;FMTTYPE=image/jpeg:http://www.lowkeytiki.com/wp-content/uploads/2019/11/RudyCox1.jpg
END:VEVENT
END:VCALENDAR