BEGIN:VCALENDAR
VERSION:2.0
PRODID:-//Low Key Tiki - ECPv4.9.6//NONSGML v1.0//EN
CALSCALE:GREGORIAN
METHOD:PUBLISH
X-WR-CALNAME:Low Key Tiki
X-ORIGINAL-URL:http://www.lowkeytiki.com
X-WR-CALDESC:Events for Low Key Tiki
BEGIN:VTIMEZONE
TZID:"America/New_York"
BEGIN:DAYLIGHT
TZOFFSETFROM:-0500
TZOFFSETTO:-0400
TZNAME:EDT
DTSTART:20190310T070000
END:DAYLIGHT
BEGIN:STANDARD
TZOFFSETFROM:-0400
TZOFFSETTO:-0500
TZNAME:EST
DTSTART:20191103T060000
END:STANDARD
END:VTIMEZONE
BEGIN:VEVENT
DTSTART;TZID="America/New_York":20191010T180000
DTEND;TZID="America/New_York":20191010T203000
DTSTAMP:20260423T102313
CREATED:20180814T103239Z
LAST-MODIFIED:20190926T001321Z
UID:362-1570730400-1570739400@www.lowkeytiki.com
SUMMARY:Shaun Miller
DESCRIPTION:
URL:http://www.lowkeytiki.com/event/shaun-miller/
CATEGORIES:Live Music
END:VEVENT
END:VCALENDAR